BEGIN:VCALENDAR
VERSION:2.0
PRODID:-//Wisconsin - ECPv6.15.16//NONSGML v1.0//EN
CALSCALE:GREGORIAN
METHOD:PUBLISH
X-ORIGINAL-URL:https://www.playworks.org/wisconsin
X-WR-CALDESC:Events for Wisconsin
REFRESH-INTERVAL;VALUE=DURATION:PT1H
X-Robots-Tag:noindex
X-PUBLISHED-TTL:PT1H
BEGIN:VTIMEZONE
TZID:America/Chicago
BEGIN:DAYLIGHT
TZOFFSETFROM:-0600
TZOFFSETTO:-0500
TZNAME:CDT
DTSTART:20230312T080000
END:DAYLIGHT
BEGIN:STANDARD
TZOFFSETFROM:-0500
TZOFFSETTO:-0600
TZNAME:CST
DTSTART:20231105T070000
END:STANDARD
BEGIN:DAYLIGHT
TZOFFSETFROM:-0600
TZOFFSETTO:-0500
TZNAME:CDT
DTSTART:20240310T080000
END:DAYLIGHT
BEGIN:STANDARD
TZOFFSETFROM:-0500
TZOFFSETTO:-0600
TZNAME:CST
DTSTART:20241103T070000
END:STANDARD
BEGIN:DAYLIGHT
TZOFFSETFROM:-0600
TZOFFSETTO:-0500
TZNAME:CDT
DTSTART:20250309T080000
END:DAYLIGHT
BEGIN:STANDARD
TZOFFSETFROM:-0500
TZOFFSETTO:-0600
TZNAME:CST
DTSTART:20251102T070000
END:STANDARD
END:VTIMEZONE
BEGIN:VEVENT
DTSTART;TZID=America/Chicago:20241023T143000
DTEND;TZID=America/Chicago:20241023T153000
DTSTAMP:20260421T202903
CREATED:20240927T135726Z
LAST-MODIFIED:20240927T164111Z
UID:3185-1729693800-1729697400@www.playworks.org
SUMMARY:Thriving Through Play
DESCRIPTION:Get ready for the return of The Game Plan webinar series—now featuring exciting new topics! Playworks invites educators and administrators to join our free\, four-part series designed to help bring the benefits of play to your school.\nPlay is an essential part of every child’s development\, fostering social skills\, creativity\, and overall well-being. Learn practical strategies and insights to increase playtime at your school or site and ensure every child has the opportunity to benefit from recess. \nWe’ll also explore how play can create positive outcomes for kids and contribute to a healthy\, engaged learning environment. \nEach webinar will begin at 12:30 PST/3:30 EST and last about an hour. The webinar will be recorded for future viewing. \nRegister
URL:https://www.playworks.org/wisconsin/event/thriving-through-play/
LOCATION:WI
ATTACH;FMTTYPE=image/png:https://www.playworks.org/wisconsin/wp-content/uploads/sites/23/2024/09/October-2024.png
END:VEVENT
END:VCALENDAR